BEGIN:VCALENDAR
VERSION:2.0
PRODID:-//McTimothy Associates
CALSCALE:GREGORIAN
METHOD:PUBLISH
X-WR-CALNAME:McTimothy Associates
X-ORIGINAL-URL:https://www.mctimothyassociates.com/product/managing-expatriate-employment-in-line-with-nigeria-immigration-act-2015/
X-WR-CALDESC:MANAGING EXPATRIATE EMPLOYMENT IN LINE WITH NIGERIA IMMIGRATION ACT 2015
BEGIN:VEVENT
DTSTART;TZID=Europe/Paris:20260312T100000
DTEND;TZID=Europe/Paris:20260314T160000
SUMMARY:MANAGING EXPATRIATE EMPLOYMENT IN LINE WITH NIGERIA IMMIGRATION ACT 2015
DESCRIPTION:COURSE COVERAGE PROGRAMME METHODOLOGY This programme will be highly interactive, with a mix of regulations, directives, concepts and practical sessions. Participants will have the opportunity to have practical experience, learn from others through group discussions and be exposed your skills through a series of individual and group exercises. LEARNING OUTCOMES At the end of this course, participants would be able to: Use relevant laws to standardize expatriate employment for their organization. Design sensitive and people friendly policies for expatriate management in the organization. Learn how to save cost on expatriate recruitment. Integrate measurement for overall Expatriate Talent Management strategy Understate how to carry out disengagement with expatriate using risk free strategies. Understand why government may clam down and fine defaulting organization for the purpose of revenue generation in 2016. Grasp the reasons for establishment of Nigerian Immigration Courts by government and how to use that to your advantage. Leverage on required guidelines for expatriate employment fora risk free engagement. Proffer solutions to business owners in relations to dos and don’ts of expatriate engagement in Nigeria. Develop a workable infrastructure for capacity development for managing alien workforce. Bridge the knowledge gaps that exist in managing workforce diversity. Get hold on relevant laws and templates for managing immigration related issues. TARGET AUDIENCE ▪ CEOs ▪ HR Managers ▪ Legal Advisers ▪ CFO/Accountants/ Payroll Managers ▪ Tax Managers/Advisors ▪ Corporate affairs Managers. ▪ Immigration officers/Agents ▪ Staff of industries employing expatriate on a regular/contract basis Duration: 2 days Class Session : 10:00am – 4:00pm each day including Breakfast and Lunch time Customize Your Training This training solution and other training topics from McTimothyAssociates are currently available as residential/in-house option. Please Note McTimothy Associates Reserves the right to postpone or cancel a course due to unforeseen circumstances beyond our control. In such cases delegate(s) will be registered for the next run of the Course.
URL:https://www.mctimothyassociates.com/product/managing-expatriate-employment-in-line-with-nigeria-immigration-act-2015/
LOCATION:The professional Place, 12B Olumoroti Street Gbagada Phrase 2, Gbagada Lagos
END:VEVENT
END:VCALENDAR
