BEGIN:VCALENDAR
VERSION:2.0
PRODID:-//McTimothy Associates
CALSCALE:GREGORIAN
METHOD:PUBLISH
X-WR-CALNAME:McTimothy Associates
X-ORIGINAL-URL:https://www.mctimothyassociates.com/product/delivering-exceptional-customer-service-in-microfinance-banking-2/
X-WR-CALDESC:Delivering Exceptional Customer Service in Microfinance Banking
BEGIN:VEVENT
DTSTART;TZID=Europe/Paris:20260513T000000
DTEND;TZID=Europe/Paris:20260515T000000
SUMMARY:Delivering Exceptional Customer Service in Microfinance Banking
DESCRIPTION:
URL:https://www.mctimothyassociates.com/product/delivering-exceptional-customer-service-in-microfinance-banking-2/
LOCATION:
END:VEVENT
END:VCALENDAR
