BEGIN:VCALENDAR
VERSION:2.0
PRODID:-//McTimothy Associates
CALSCALE:GREGORIAN
METHOD:PUBLISH
X-WR-CALNAME:McTimothy Associates
X-ORIGINAL-URL:https://www.mctimothyassociates.com/product/lean-six-sigma-green-belt-training-6/
X-WR-CALDESC:LEAN SIX SIGMA GREEN BELT TRAINING
BEGIN:VEVENT
DTSTART;TZID=Europe/Paris:20261022T000000
DTEND;TZID=Europe/Paris:20261024T000000
SUMMARY:LEAN SIX SIGMA GREEN BELT TRAINING
DESCRIPTION:
URL:https://www.mctimothyassociates.com/product/lean-six-sigma-green-belt-training-6/
LOCATION:The Professional Place 12B,Olumoroti Street,Gbagada Phase , Gbagada, Lagos 
END:VEVENT
END:VCALENDAR
