BEGIN:VCALENDAR
VERSION:2.0
PRODID:-//McTimothy Associates
CALSCALE:GREGORIAN
METHOD:PUBLISH
X-WR-CALNAME:McTimothy Associates
X-ORIGINAL-URL:https://www.mctimothyassociates.com/product/total-quality-management-tqm-tool-box-for-continual-improvement-2/
X-WR-CALDESC:Total Quality Management (TQM): Tool Box for Continual Improvement
BEGIN:VEVENT
DTSTART;TZID=Europe/Paris:20260402T000000
DTEND;TZID=Europe/Paris:20260404T000000
SUMMARY:Total Quality Management (TQM): Tool Box for Continual Improvement
DESCRIPTION:
URL:https://www.mctimothyassociates.com/product/total-quality-management-tqm-tool-box-for-continual-improvement-2/
LOCATION:The professional Place, 12B Olumoroti Street Gbagada Phrase 2, Gbagada Lagos
END:VEVENT
END:VCALENDAR
