BEGIN:VCALENDAR
VERSION:2.0
PRODID:-//McTimothy Associates
CALSCALE:GREGORIAN
METHOD:PUBLISH
X-WR-CALNAME:McTimothy Associates
X-ORIGINAL-URL:https://www.mctimothyassociates.com/product/certified-compensation-and-benefits-management-professional-cbmp-4/
X-WR-CALDESC:Certified Compensation and Benefits Management Professional (CBMP)
BEGIN:VEVENT
DTSTART;TZID=Europe/Paris:20260718T000000
DTEND;TZID=Europe/Paris:20260718T000000
SUMMARY:Certified Compensation and Benefits Management Professional (CBMP)
DESCRIPTION:
URL:https://www.mctimothyassociates.com/product/certified-compensation-and-benefits-management-professional-cbmp-4/
LOCATION:The professional Place, 12B Olumoroti Street Gbagada Phrase 2, Gbagada Lagos
END:VEVENT
END:VCALENDAR
