BEGIN:VCALENDAR
VERSION:2.0
PRODID:-//McTimothy Associates
CALSCALE:GREGORIAN
METHOD:PUBLISH
X-WR-CALNAME:McTimothy Associates
X-ORIGINAL-URL:https://www.mctimothyassociates.com/product/certified-human-resources-professional-chrp-from-traditional-hr-role-to-business-partner-5/
X-WR-CALDESC:Certified Human Resources Professional (CHRP): From Traditional HR Role to Business Partner
BEGIN:VEVENT
DTSTART;TZID=Europe/Paris:20260917T000000
DTEND;TZID=Europe/Paris:20260919T000000
SUMMARY:Certified Human Resources Professional (CHRP): From Traditional HR Role to Business Partner
DESCRIPTION:
URL:https://www.mctimothyassociates.com/product/certified-human-resources-professional-chrp-from-traditional-hr-role-to-business-partner-5/
LOCATION:The professional Place, 12B Olumoroti Street Gbagada Phrase 2, Gbagada Lagos
END:VEVENT
END:VCALENDAR
