BEGIN:VCALENDAR
VERSION:2.0
PRODID:-//McTimothy Associates
CALSCALE:GREGORIAN
METHOD:PUBLISH
X-WR-CALNAME:McTimothy Associates
X-ORIGINAL-URL:https://www.mctimothyassociates.com/product/managing-staff-grievance-discipline-dismissal-at-workplace-7/
X-WR-CALDESC:Managing  Staff Grievance, Discipline &#038; Dismissal At Workplace
BEGIN:VEVENT
DTSTART;TZID=Europe/Paris:20261119T000000
DTEND;TZID=Europe/Paris:20261121T000000
SUMMARY:Managing  Staff Grievance, Discipline & Dismissal At Workplace
DESCRIPTION:
URL:https://www.mctimothyassociates.com/product/managing-staff-grievance-discipline-dismissal-at-workplace-7/
LOCATION:The professional Place, 12B Olumoroti Street Gbagada Phrase 2, Gbagada Lagos
END:VEVENT
END:VCALENDAR
