BEGIN:VCALENDAR
VERSION:2.0
PRODID:-//McTimothy Associates
CALSCALE:GREGORIAN
METHOD:PUBLISH
X-WR-CALNAME:McTimothy Associates
X-ORIGINAL-URL:https://www.mctimothyassociates.com/product/managing-redundancy-outplacement-effectively-8/
X-WR-CALDESC:Managing Redundancy &#038; Outplacement Effectively
BEGIN:VEVENT
DTSTART;TZID=Europe/Paris:20261015T000000
DTEND;TZID=Europe/Paris:20261017T000000
SUMMARY:Managing Redundancy & Outplacement Effectively
DESCRIPTION:
URL:https://www.mctimothyassociates.com/product/managing-redundancy-outplacement-effectively-8/
LOCATION:The professional Place, 12B Olumoroti Street Gbagada Phrase 2, Gbagada Lagos
END:VEVENT
END:VCALENDAR
