BEGIN:VCALENDAR
VERSION:2.0
PRODID:-//McTimothy Associates
CALSCALE:GREGORIAN
METHOD:PUBLISH
X-WR-CALNAME:McTimothy Associates
X-ORIGINAL-URL:https://www.mctimothyassociates.com/product/managing-organizational-productivity-for-workplace-success-3/
X-WR-CALDESC:Managing Organizational Productivity for Workplace Success
BEGIN:VEVENT
DTSTART;TZID=Europe/Paris:20260723T000000
DTEND;TZID=Europe/Paris:20260725T000000
SUMMARY:Managing Organizational Productivity for Workplace Success
DESCRIPTION:
URL:https://www.mctimothyassociates.com/product/managing-organizational-productivity-for-workplace-success-3/
LOCATION:The professional Place, 12B Olumoroti Street Gbagada Phrase 2, Gbagada Lagos
END:VEVENT
END:VCALENDAR
