BEGIN:VCALENDAR
VERSION:2.0
PRODID:-//McTimothy Associates
CALSCALE:GREGORIAN
METHOD:PUBLISH
X-WR-CALNAME:McTimothy Associates
X-ORIGINAL-URL:https://www.mctimothyassociates.com/product/developing-advanced-competencies-in-human-resources-management-2/
X-WR-CALDESC:Developing Advanced Competencies in Human Resources Management
BEGIN:VEVENT
DTSTART;TZID=Europe/Paris:20261021T000000
DTEND;TZID=Europe/Paris:20261024T000000
SUMMARY:Developing Advanced Competencies in Human Resources Management
DESCRIPTION:
URL:https://www.mctimothyassociates.com/product/developing-advanced-competencies-in-human-resources-management-2/
LOCATION:The professional Place, 12B Olumoroti Street Gbagada Phrase 2, Gbagada Lagos
END:VEVENT
END:VCALENDAR
