BEGIN:VCALENDAR
VERSION:2.0
PRODID:-//McTimothy Associates
CALSCALE:GREGORIAN
METHOD:PUBLISH
X-WR-CALNAME:McTimothy Associates
X-ORIGINAL-URL:https://www.mctimothyassociates.com/product/managing-multiple-priorities-time-task-stress-management-5/
X-WR-CALDESC:Managing Multiple Priorities, Time, Task &#038; Stress Management
BEGIN:VEVENT
DTSTART;TZID=Europe/Paris:20261103T000000
DTEND;TZID=Europe/Paris:20261104T000000
SUMMARY:Managing Multiple Priorities, Time, Task & Stress Management
DESCRIPTION:
URL:https://www.mctimothyassociates.com/product/managing-multiple-priorities-time-task-stress-management-5/
LOCATION:The professional Place, 12B Olumoroti Street Gbagada Phrase 2, Gbagada Lagos
END:VEVENT
END:VCALENDAR
