BEGIN:VCALENDAR
VERSION:2.0
PRODID:-//McTimothy Associates
CALSCALE:GREGORIAN
METHOD:PUBLISH
X-WR-CALNAME:McTimothy Associates
X-ORIGINAL-URL:https://www.mctimothyassociates.com/product/essential-administrative-funtions-and-office-management-best-practce-technologiesa-4/
X-WR-CALDESC:Essential Administrative Funtions and Office Management Best Practce &#038; Technologiesa
BEGIN:VEVENT
DTSTART;TZID=Europe/Paris:20260612T000000
DTEND;TZID=Europe/Paris:20260613T000000
SUMMARY:Essential Administrative Funtions and Office Management Best Practce & Technologiesa
DESCRIPTION:
URL:https://www.mctimothyassociates.com/product/essential-administrative-funtions-and-office-management-best-practce-technologiesa-4/
LOCATION:The professional place, 12b Olumoroti street, Gbagada phase 2
END:VEVENT
END:VCALENDAR
