BEGIN:VCALENDAR
VERSION:2.0
PRODID:-//McTimothy Associates
CALSCALE:GREGORIAN
METHOD:PUBLISH
X-WR-CALNAME:McTimothy Associates
X-ORIGINAL-URL:https://www.mctimothyassociates.com/product/effective-client-retention-and-satisfaction-strategies-4/
X-WR-CALDESC:Effective Client Retention and Satisfaction Strategies
BEGIN:VEVENT
DTSTART;TZID=Europe/Paris:20260924T000000
DTEND;TZID=Europe/Paris:20260926T000000
SUMMARY:Effective Client Retention and Satisfaction Strategies
DESCRIPTION:
URL:https://www.mctimothyassociates.com/product/effective-client-retention-and-satisfaction-strategies-4/
LOCATION:The professional Place, 12B Olumoroti Street Gbagada Phrase 2, Gbagada Lagos
END:VEVENT
END:VCALENDAR
