BEGIN:VCALENDAR
VERSION:2.0
PRODID:-//McTimothy Associates
CALSCALE:GREGORIAN
METHOD:PUBLISH
X-WR-CALNAME:McTimothy Associates
X-ORIGINAL-URL:https://www.mctimothyassociates.com/product/effective-telephone-skills-and-customer-care-effectiveness-3/
X-WR-CALDESC:Effective Telephone Skills and Customer Care Effectiveness
BEGIN:VEVENT
DTSTART;TZID=Europe/Paris:20260327T000000
DTEND;TZID=Europe/Paris:20260328T000000
SUMMARY:Effective Telephone Skills and Customer Care Effectiveness
DESCRIPTION:
URL:https://www.mctimothyassociates.com/product/effective-telephone-skills-and-customer-care-effectiveness-3/
LOCATION:The professional Place, 12B Olumoroti Street Gbagada Phrase 2, Gbagada Lagos
END:VEVENT
END:VCALENDAR
