BEGIN:VCALENDAR
VERSION:2.0
PRODID:-//McTimothy Associates
CALSCALE:GREGORIAN
METHOD:PUBLISH
X-WR-CALNAME:McTimothy Associates
X-ORIGINAL-URL:https://www.mctimothyassociates.com/product/customer-complaints-system-a-tool-for-customer-service-improvement/
X-WR-CALDESC:Customer Complaints System: A Tool for Customer Service Improvement
BEGIN:VEVENT
DTSTART;TZID=Europe/Paris:20260604T000000
DTEND;TZID=Europe/Paris:20260606T000000
SUMMARY:Customer Complaints System: A Tool for Customer Service Improvement
DESCRIPTION:
URL:https://www.mctimothyassociates.com/product/customer-complaints-system-a-tool-for-customer-service-improvement/
LOCATION:The professional Place, 12B Olumoroti Street Gbagada Phrase 2, Gbagada Lagos
END:VEVENT
END:VCALENDAR
