BEGIN:VCALENDAR
VERSION:2.0
PRODID:-//McTimothy Associates
CALSCALE:GREGORIAN
METHOD:PUBLISH
X-WR-CALNAME:McTimothy Associates
X-ORIGINAL-URL:https://www.mctimothyassociates.com/product/effective-customer-complaints-handling-skills-4/
X-WR-CALDESC:Effective Customer Complaints Handling Skills
BEGIN:VEVENT
DTSTART;TZID=Europe/Paris:20260709T000000
DTEND;TZID=Europe/Paris:20260711T000000
SUMMARY:Effective Customer Complaints Handling Skills
DESCRIPTION:
URL:https://www.mctimothyassociates.com/product/effective-customer-complaints-handling-skills-4/
LOCATION:The professional Place, 12B Olumoroti Street Gbagada Phrase 2, Gbagada Lagos
END:VEVENT
END:VCALENDAR
