BEGIN:VCALENDAR
VERSION:2.0
PRODID:-//McTimothy Associates
CALSCALE:GREGORIAN
METHOD:PUBLISH
X-WR-CALNAME:McTimothy Associates
X-ORIGINAL-URL:https://www.mctimothyassociates.com/product/advanced-digital-marketing-management/
X-WR-CALDESC:Advanced Digital Marketing Management
BEGIN:VEVENT
DTSTART;TZID=Europe/Paris:20260312T000000
DTEND;TZID=Europe/Paris:20260314T000000
SUMMARY:Advanced Digital Marketing Management
DESCRIPTION:
URL:https://www.mctimothyassociates.com/product/advanced-digital-marketing-management/
LOCATION:
END:VEVENT
END:VCALENDAR
