BEGIN:VCALENDAR
VERSION:2.0
PRODID:-//McTimothy Associates
CALSCALE:GREGORIAN
METHOD:PUBLISH
X-WR-CALNAME:McTimothy Associates
X-ORIGINAL-URL:https://www.mctimothyassociates.com/product/effective-business-etiquette-and-protocol-4/
X-WR-CALDESC:Effective Business Etiquette and Protocol
BEGIN:VEVENT
DTSTART;TZID=Europe/Paris:20260702T000000
DTEND;TZID=Europe/Paris:20260704T000000
SUMMARY:Effective Business Etiquette and Protocol
DESCRIPTION:
URL:https://www.mctimothyassociates.com/product/effective-business-etiquette-and-protocol-4/
LOCATION:
END:VEVENT
END:VCALENDAR
