BEGIN:VCALENDAR
VERSION:2.0
PRODID:-//McTimothy Associates
CALSCALE:GREGORIAN
METHOD:PUBLISH
X-WR-CALNAME:McTimothy Associates
X-ORIGINAL-URL:https://www.mctimothyassociates.com/product/customer-handling-skills-for-call-centre-representatives-5/
X-WR-CALDESC:Customer Handling Skills for Call Centre Representatives
BEGIN:VEVENT
DTSTART;TZID=Europe/Paris:20261104T000000
DTEND;TZID=Europe/Paris:20261106T000000
SUMMARY:Customer Handling Skills for Call Centre Representatives
DESCRIPTION:
URL:https://www.mctimothyassociates.com/product/customer-handling-skills-for-call-centre-representatives-5/
LOCATION:The professional Place, 12B Olumoroti Street Gbagada Phrase 2, Gbagada Lagos
END:VEVENT
END:VCALENDAR
