BEGIN:VCALENDAR
VERSION:2.0
PRODID:-//McTimothy Associates
CALSCALE:GREGORIAN
METHOD:PUBLISH
X-WR-CALNAME:McTimothy Associates
X-ORIGINAL-URL:https://www.mctimothyassociates.com/product/managing-oil-and-gas-field-operations-4/
X-WR-CALDESC:Managing Oil And Gas Field Operations
BEGIN:VEVENT
DTSTART;TZID=Europe/Paris:20260825T000000
DTEND;TZID=Europe/Paris:20260829T000000
SUMMARY:Managing Oil And Gas Field Operations
DESCRIPTION:
URL:https://www.mctimothyassociates.com/product/managing-oil-and-gas-field-operations-4/
LOCATION:The professional Place, 12B Olumoroti Street Gbagada Phrase 2, Gbagada Lagos
END:VEVENT
END:VCALENDAR
