BEGIN:VCALENDAR
VERSION:2.0
PRODID:-//McTimothy Associates
CALSCALE:GREGORIAN
METHOD:PUBLISH
X-WR-CALNAME:McTimothy Associates
X-ORIGINAL-URL:https://www.mctimothyassociates.com/product/gas-explosion-and-other-hazards-of-lng-facilities-3/
X-WR-CALDESC:Gas Explosion and Other Hazards of LNG Facilities
BEGIN:VEVENT
DTSTART;TZID=Europe/Paris:20261027T000000
DTEND;TZID=Europe/Paris:20261031T000000
SUMMARY:Gas Explosion and Other Hazards of LNG Facilities
DESCRIPTION:
URL:https://www.mctimothyassociates.com/product/gas-explosion-and-other-hazards-of-lng-facilities-3/
LOCATION:The professional Place, 12B Olumoroti Street Gbagada Phrase 2, Gbagada Lagos
END:VEVENT
END:VCALENDAR
