BEGIN:VCALENDAR
VERSION:2.0
PRODID:-//McTimothy Associates
CALSCALE:GREGORIAN
METHOD:PUBLISH
X-WR-CALNAME:McTimothy Associates
X-ORIGINAL-URL:https://www.mctimothyassociates.com/product/global-best-practice-in-petroleum-refinery-operations-6/
X-WR-CALDESC:Global Best Practice in Petroleum Refinery Operations
BEGIN:VEVENT
DTSTART;TZID=Europe/Paris:20261013T000000
DTEND;TZID=Europe/Paris:20261017T000000
SUMMARY:Global Best Practice in Petroleum Refinery Operations
DESCRIPTION:
URL:https://www.mctimothyassociates.com/product/global-best-practice-in-petroleum-refinery-operations-6/
LOCATION:The professional Place, 12B Olumoroti Street Gbagada Phrase 2, Gbagada Lagos
END:VEVENT
END:VCALENDAR
