BEGIN:VCALENDAR
VERSION:2.0
PRODID:-//McTimothy Associates
CALSCALE:GREGORIAN
METHOD:PUBLISH
X-WR-CALNAME:McTimothy Associates
X-ORIGINAL-URL:https://www.mctimothyassociates.com/product/oil-gas-movement-storage-and-marine-terminal-operation-5/
X-WR-CALDESC:Oil &#038; Gas Movement, Storage, and Marine Terminal Operation
BEGIN:VEVENT
DTSTART;TZID=Europe/Paris:20260915T000000
DTEND;TZID=Europe/Paris:20260919T000000
SUMMARY:Oil & Gas Movement, Storage, and Marine Terminal Operation
DESCRIPTION:
URL:https://www.mctimothyassociates.com/product/oil-gas-movement-storage-and-marine-terminal-operation-5/
LOCATION:The professional Place, 12B Olumoroti Street Gbagada Phrase 2, Gbagada Lagos
END:VEVENT
END:VCALENDAR
