BEGIN:VCALENDAR
VERSION:2.0
PRODID:-//McTimothy Associates
CALSCALE:GREGORIAN
METHOD:PUBLISH
X-WR-CALNAME:McTimothy Associates
X-ORIGINAL-URL:https://www.mctimothyassociates.com/product/certified-executive-and-personal-assistant-masterclass-9/
X-WR-CALDESC:Certified Executive and Personal Assistant Masterclass
BEGIN:VEVENT
DTSTART;TZID=Europe/Paris:20260902T000000
DTEND;TZID=Europe/Paris:20260904T000000
SUMMARY:Certified Executive and Personal Assistant Masterclass
DESCRIPTION:
URL:https://www.mctimothyassociates.com/product/certified-executive-and-personal-assistant-masterclass-9/
LOCATION:The professional Place, 12B Olumoroti Street Gbagada Phrase 2, Gbagada Lagos
END:VEVENT
END:VCALENDAR
