BEGIN:VCALENDAR
VERSION:2.0
PRODID:-//McTimothy Associates
CALSCALE:GREGORIAN
METHOD:PUBLISH
X-WR-CALNAME:McTimothy Associates
X-ORIGINAL-URL:https://www.mctimothyassociates.com/product/managing-redundancy-outplacement-effectively-6/
X-WR-CALDESC:Managing Redundancy &#038; Outplacement Effectively
BEGIN:VEVENT
DTSTART;TZID=Europe/Paris:20251016T100000
DTEND;TZID=Europe/Paris:20251018T160000
SUMMARY:Managing Redundancy & Outplacement Effectively
DESCRIPTION:
URL:https://www.mctimothyassociates.com/product/managing-redundancy-outplacement-effectively-6/
LOCATION:The professional Place, 12B Olumoroti Street Gbagada Phrase 2, Gbagada Lagos
END:VEVENT
END:VCALENDAR
