BEGIN:VCALENDAR
VERSION:2.0
PRODID:-//McTimothy Associates
CALSCALE:GREGORIAN
METHOD:PUBLISH
X-WR-CALNAME:McTimothy Associates
X-ORIGINAL-URL:https://www.mctimothyassociates.com/product/how-to-write-implement-human-resources-policies-and-procedures-2/
X-WR-CALDESC:How to Write &#038; Implement Human Resources Policies and Procedures
BEGIN:VEVENT
DTSTART;TZID=Europe/Paris:20250724T100000
DTEND;TZID=Europe/Paris:20250726T160000
SUMMARY:How to Write & Implement Human Resources Policies and Procedures
DESCRIPTION:
URL:https://www.mctimothyassociates.com/product/how-to-write-implement-human-resources-policies-and-procedures-2/
LOCATION:The professional Place, 12B Olumoroti Street Gbagada Phrase 2, Gbagada Lagos
END:VEVENT
END:VCALENDAR
