BEGIN:VCALENDAR
VERSION:2.0
PRODID:-//McTimothy Associates
CALSCALE:GREGORIAN
METHOD:PUBLISH
X-WR-CALNAME:McTimothy Associates
X-ORIGINAL-URL:https://www.mctimothyassociates.com/product/oil-and-gas-business-management-understanding-international-best-practices-2/
X-WR-CALDESC:OIL AND GAS BUSINESS MANAGEMENT: UNDERSTANDING INTERNATIONAL BEST PRACTICES
BEGIN:VEVENT
DTSTART;TZID=Europe/Paris:20250617T100000
DTEND;TZID=Europe/Paris:20250621T160000
SUMMARY:OIL AND GAS BUSINESS MANAGEMENT: UNDERSTANDING INTERNATIONAL BEST PRACTICES
DESCRIPTION:IMPORTANT FEATURES The important features of this training course are: Up-to-date global statistics of oil &amp; gas, reserves, production, consumption, and exports Familiarization of the oil and gas supply chain: upstream, midstream and downstream operations and related facilities Develop an appreciation and understanding of the origins of oil and gas and identify the basics of geology in relation to oil and gas reservoirs Understand the exploration activities from project inception through to implementation and production i.e. the field life cycle Appreciate the evolving nature of the Oil and Gas industry and its many facets and identify and manage key stakeholder’s expectations Understand the fundamentals of drilling, well completions and production operations and examine the basics of primary and enhanced recovery operations Recognize and learn the terminology as applied to the Oil and Gas industry and appreciate the difference between exploration, appraisal and development wells LEARNING OBJECTIVES Upon the successful completion of the course, participants will: Identify where petroleum comes from and how and where it accumulates Recognize and understand basic geology and its relation to the formation and exploration of petroleum Identify the stakeholders in the energy supply chain Explore the global oil and gas industry to date and understand different type of oil companies Understand exploration and production techniques and their associated risks Gain insight to petroleum economic, fiscal and project planning issues Become aware of development, transport and market options for oil and gas TARGET AUDIENCE Those seeking a broader knowledge of the oil, gas and energy industry and markets New recruits to oil, gas and energy companies Oil &amp; gas field personnel Operations, maintenance and engineering professionals Finance, Procurement &amp; Supply Chain Staff Other support staff who have an interest in increasing their understanding of the oil &amp; gas production operations: analysts, planners, traders, sales, marketing, engineering, refining, communications and commercial personnel Ministerial, governmental, industry bodies and development agency staff TRAINING METHODOLOGY Our highly practical experiential learning method is results-oriented; based on an adult learning concept. Oil &amp; Gas Business Management: International Best Practices training course will be presented using a combination of interactive presentations, case studies, participant activities and exercises to maximize the impact of the learning experience. Delegates will have ample time to consider the ideas and apply the skills discussed. In addition, technical videos will be presented. Pre &amp; Post course assessments will be used to measure the effectiveness of this training and measure the skill and ability of participants.
URL:https://www.mctimothyassociates.com/product/oil-and-gas-business-management-understanding-international-best-practices-2/
LOCATION:The professional Place, 12B Olumoroti Street Gbagada Phrase 2, Gbagada Lagos
END:VEVENT
END:VCALENDAR
