BEGIN:VCALENDAR
VERSION:2.0
PRODID:-//McTimothy Associates
CALSCALE:GREGORIAN
METHOD:PUBLISH
X-WR-CALNAME:McTimothy Associates
X-ORIGINAL-URL:https://www.mctimothyassociates.com/product/managing-petroleum-refinery-operations-2/
X-WR-CALDESC:Managing Petroleum Refinery Operations
BEGIN:VEVENT
DTSTART;TZID=Europe/Paris:20250805T100000
DTEND;TZID=Europe/Paris:20250809T160000
SUMMARY:Managing Petroleum Refinery Operations
DESCRIPTION:
URL:https://www.mctimothyassociates.com/product/managing-petroleum-refinery-operations-2/
LOCATION:The professional Place, 12B Olumoroti Street Gbagada Phrase 2, Gbagada Lagos
END:VEVENT
END:VCALENDAR
