BEGIN:VCALENDAR
VERSION:2.0
PRODID:-//McTimothy Associates
CALSCALE:GREGORIAN
METHOD:PUBLISH
X-WR-CALNAME:McTimothy Associates
X-ORIGINAL-URL:https://www.mctimothyassociates.com/product/transportation-of-dangerous-goods/
X-WR-CALDESC:Transportation of Dangerous Goods
BEGIN:VEVENT
DTSTART;TZID=Europe/Paris:20260113T100000
DTEND;TZID=Europe/Paris:20260117T160000
SUMMARY:Transportation of Dangerous Goods
DESCRIPTION:
URL:https://www.mctimothyassociates.com/product/transportation-of-dangerous-goods/
LOCATION:The professional Place, 12B Olumoroti Street Gbagada Phrase 2, Gbagada Lagos
END:VEVENT
END:VCALENDAR
