BEGIN:VCALENDAR
VERSION:2.0
PRODID:-//McTimothy Associates
CALSCALE:GREGORIAN
METHOD:PUBLISH
X-WR-CALNAME:McTimothy Associates
X-ORIGINAL-URL:https://www.mctimothyassociates.com/product/oil-and-gas-procurement-supply-chain-management-2/
X-WR-CALDESC:OIL AND GAS PROCUREMENT &#038; SUPPLY CHAIN MANAGEMENT
BEGIN:VEVENT
DTSTART;TZID=Europe/Paris:20250722T100000
DTEND;TZID=Europe/Paris:20250726T160000
SUMMARY:OIL AND GAS PROCUREMENT & SUPPLY CHAIN MANAGEMENT
DESCRIPTION:LEARNING OBJECTIVES Oil &amp; Gas Procurement &amp; Supply Chain Management training course is based on accomplishing the following objectives: Enhanced E&amp;P procurement professionals’ core competencies Business drivers and interface issues to be supported by procurement The role of industry economics in dictating procurement good practices in cost management Industry global compliance needs and how procurement can add value How the industry is modeled in the E&amp;P (upstream), midstream, and downstream value chains Characteristics of supply markets to oil and gas and the emphasis on market intelligence practices and managing supply risks What constitutes effective procurement/supply chain metrics for performance improvement Understand how to anticipate and mitigate procurement contract risks TARGET AUDIENCE This training course is designed for a wide range of professionals include: Purchasing and contract management professionals Project, Engineering, Operational, and Maintenance, personnel who are involved in the planning, and execution of purchases and contracts Senior Supply Chain Managers and Executives are looking at thought leadership of their own supply chain. Those wanting to create action within the supply chain to increase value and reduce cost TRAINING METHODOLOGY This practical and results-oriented Oil &amp; Gas Procurement &amp; Supply Chain Management training course is based on adult learning concept. It will be presented using a combination of interactive presentations, case studies, participant activities and exercises to maximise the impact of the learning experience. Delegates will have ample time to consider the ideas and apply the skills discussed. Pre &amp; Post course assessments will be used to measure the effectiveness of this training and measure the skill and ability of participants.
URL:https://www.mctimothyassociates.com/product/oil-and-gas-procurement-supply-chain-management-2/
LOCATION:The professional Place, 12B Olumoroti Street Gbagada Phrase 2, Gbagada Lagos
END:VEVENT
END:VCALENDAR
