BEGIN:VCALENDAR
VERSION:2.0
PRODID:-//McTimothy Associates
CALSCALE:GREGORIAN
METHOD:PUBLISH
X-WR-CALNAME:McTimothy Associates
X-ORIGINAL-URL:https://www.mctimothyassociates.com/product/managing-and-coordinating-in-house-training-proactively-copy/
X-WR-CALDESC:Managing and Coordinating In-House Training Proactively &#8211; Copy
BEGIN:VEVENT
DTSTART;TZID=Europe/Paris:20250314T100000
DTEND;TZID=Europe/Paris:20250314T160000
SUMMARY:Managing and Coordinating In-House Training Proactively – Copy
DESCRIPTION:Course Methodology Participants in this course will apply theoretical concepts in a practical and hands-on methodology. To achieve this, participants will be asked to develop material that can be used back on the job to support their training tasks and function. Course Objectives By the end of the course, participants will be able to: List the benefits of training and development and reasons causing programs to fail Identify the main phases of the ISD model of training and development List and complete necessary tasks in coordinating training activities Evaluate training providers and prepare a training Request for Proposal (RFP) Create a work environment that will facilitate transfer of training List and apply training best practices within organizations Target Audience Training and development administrators, officers and business partners involved in coordinating training activities within the organization. Target Competencies Deciding and initiating action Working with people Persuading and influencing Presenting and communicating Applying expertise and technology Following instructions and procedures Planning and organizing Achieving goals and objectives
URL:https://www.mctimothyassociates.com/product/managing-and-coordinating-in-house-training-proactively-copy/
LOCATION:The professional Place, 12B Olumoroti Street Gbagada Phrase 2, Gbagada Lagos
END:VEVENT
END:VCALENDAR
