BEGIN:VCALENDAR
VERSION:2.0
PRODID:-//McTimothy Associates
CALSCALE:GREGORIAN
METHOD:PUBLISH
X-WR-CALNAME:McTimothy Associates
X-ORIGINAL-URL:https://www.mctimothyassociates.com/product/effective-business-report-writing-skills-masterclass-2/
X-WR-CALDESC:Effective Business &#038; Report Writing Skills Masterclass
BEGIN:VEVENT
DTSTART;TZID=Europe/Paris:20250703T100000
DTEND;TZID=Europe/Paris:20250705T160000
SUMMARY:Effective Business & Report Writing Skills Masterclass
DESCRIPTION:
URL:https://www.mctimothyassociates.com/product/effective-business-report-writing-skills-masterclass-2/
LOCATION:The professional Place, 12B Olumoroti Street Gbagada Phrase 2, Gbagada Lagos
END:VEVENT
END:VCALENDAR
