BEGIN:VCALENDAR
VERSION:2.0
PRODID:-//McTimothy Associates
CALSCALE:GREGORIAN
METHOD:PUBLISH
X-WR-CALNAME:McTimothy Associates
X-ORIGINAL-URL:https://www.mctimothyassociates.com/product/business-communications-and-presentation-skills-2/
X-WR-CALDESC:Business Communications and Presentation Skills
BEGIN:VEVENT
DTSTART;TZID=Europe/Paris:20250718T100000
DTEND;TZID=Europe/Paris:20250719T160000
SUMMARY:Business Communications and Presentation Skills
DESCRIPTION:
URL:https://www.mctimothyassociates.com/product/business-communications-and-presentation-skills-2/
LOCATION:The professional Place, 12B Olumoroti Street Gbagada Phrase 2, Gbagada Lagos
END:VEVENT
END:VCALENDAR
