BEGIN:VCALENDAR
VERSION:2.0
PRODID:-//McTimothy Associates
CALSCALE:GREGORIAN
METHOD:PUBLISH
X-WR-CALNAME:McTimothy Associates
X-ORIGINAL-URL:https://www.mctimothyassociates.com/product/certified-executive-personal-assiatant-masterclass-2/
X-WR-CALDESC:Certified Executive &#038; Personal Assiatant Masterclass
BEGIN:VEVENT
DTSTART;TZID=Europe/Paris:20250904T100000
DTEND;TZID=Europe/Paris:20250906T160000
SUMMARY:Certified Executive & Personal Assiatant Masterclass
DESCRIPTION:
URL:https://www.mctimothyassociates.com/product/certified-executive-personal-assiatant-masterclass-2/
LOCATION:The professional place, 12b Olumoroti street, Gbagada phase 2
END:VEVENT
END:VCALENDAR
