BEGIN:VCALENDAR
VERSION:2.0
PRODID:-//McTimothy Associates
CALSCALE:GREGORIAN
METHOD:PUBLISH
X-WR-CALNAME:McTimothy Associates
X-ORIGINAL-URL:https://www.mctimothyassociates.com/product/essential-administrative-funtions-and-office-management-best-practce-technologiesa/
X-WR-CALDESC:Essential Administrative Funtions and Office Management Best Practce &#038; Technologiesa
BEGIN:VEVENT
DTSTART;TZID=Europe/Paris:20250313T100000
DTEND;TZID=Europe/Paris:20250314T160000
SUMMARY:Essential Administrative Funtions and Office Management Best Practce & Technologiesa
DESCRIPTION:
URL:https://www.mctimothyassociates.com/product/essential-administrative-funtions-and-office-management-best-practce-technologiesa/
LOCATION:The professional place, 12b Olumoroti street, Gbagada phase 2
END:VEVENT
END:VCALENDAR
