BEGIN:VCALENDAR
VERSION:2.0
PRODID:-//McTimothy Associates
CALSCALE:GREGORIAN
METHOD:PUBLISH
X-WR-CALNAME:McTimothy Associates
X-ORIGINAL-URL:https://www.mctimothyassociates.com/product/front-office-management-and-customer-relation-skills/
X-WR-CALDESC:Front Office Management and Customer Relation Skills
BEGIN:VEVENT
DTSTART;TZID=Europe/Paris:20250207T100000
DTEND;TZID=Europe/Paris:20250208T160000
SUMMARY:Front Office Management and Customer Relation Skills
DESCRIPTION:
URL:https://www.mctimothyassociates.com/product/front-office-management-and-customer-relation-skills/
LOCATION:The professional Place, 12B Olumoroti Street Gbagada Phrase 2, Gbagada Lagos
END:VEVENT
END:VCALENDAR
