BEGIN:VCALENDAR
VERSION:2.0
PRODID:-//McTimothy Associates
CALSCALE:GREGORIAN
METHOD:PUBLISH
X-WR-CALNAME:McTimothy Associates
X-ORIGINAL-URL:https://www.mctimothyassociates.com/product/successful-contract-negotiations-strategies-5/
X-WR-CALDESC:SUCCESSFUL CONTRACT NEGOTIATIONS STRATEGIES
BEGIN:VEVENT
DTSTART;TZID=Europe/Paris:20251106T100000
DTEND;TZID=Europe/Paris:20251108T160000
SUMMARY:SUCCESSFUL CONTRACT NEGOTIATIONS STRATEGIES
DESCRIPTION:Course Objectives By the end of the course, participants will be able to: Recognize the important role of negotiation in developing a solid contract and the implications of failing to do so Identify fundamental concepts of successful negotiations including problem solving, communication, and planning techniques that will help in achieving a win-win outcome Plan and conduct several contract related negotiations in a formal structured manner Outline critical provisions in the scope of work and explore collaborative approaches to secure agreements on these provisions Negotiate contractual claims and change orders in order to avoid disputes and legal issues Discover some of the tactics that are used during contract negotiations Target Audience Those involved in contract and business related negotiations. The course will also benefit those involved in negotiating the procurement of goods and services, manpower and different types of material or supplies. Target Competencies Negotiating contracts Contract preparation Handling claims Change management Technical terms and conditions Contract administration
URL:https://www.mctimothyassociates.com/product/successful-contract-negotiations-strategies-5/
LOCATION:The professional Place, 12B Olumoroti Street Gbagada Phrase 2, Gbagada Lagos
END:VEVENT
END:VCALENDAR
