BEGIN:VCALENDAR
VERSION:2.0
PRODID:-//McTimothy Associates
CALSCALE:GREGORIAN
METHOD:PUBLISH
X-WR-CALNAME:McTimothy Associates
X-ORIGINAL-URL:https://www.mctimothyassociates.com/product/advanced-selling-skills-and-strategies-for-senior-professionals-manager-2/
X-WR-CALDESC:Advanced Selling Skills and Strategies for Senior Professionals/Manager
BEGIN:VEVENT
DTSTART;TZID=Europe/Paris:20240725T100000
DTEND;TZID=Europe/Paris:20240727T160000
SUMMARY:Advanced Selling Skills and Strategies for Senior Professionals/Manager
DESCRIPTION:
URL:https://www.mctimothyassociates.com/product/advanced-selling-skills-and-strategies-for-senior-professionals-manager-2/
LOCATION:The professional Place, 12B Olumoroti Street Gbagada Phrase 2, Gbagada Lagos
END:VEVENT
END:VCALENDAR
