BEGIN:VCALENDAR
VERSION:2.0
PRODID:-//McTimothy Associates
CALSCALE:GREGORIAN
METHOD:PUBLISH
X-WR-CALNAME:McTimothy Associates
X-ORIGINAL-URL:https://www.mctimothyassociates.com/product/workshop-on-production-and-operations-management-3/
X-WR-CALDESC:Workshop on Production and Operations Management
BEGIN:VEVENT
DTSTART;TZID=Europe/Paris:20260902T100000
DTEND;TZID=Europe/Paris:20260904T160000
SUMMARY:Workshop on Production and Operations Management
DESCRIPTION:
URL:https://www.mctimothyassociates.com/product/workshop-on-production-and-operations-management-3/
LOCATION:The professional Place, 12B Olumoroti Street Gbagada Phrase 2, Gbagada Lagos
END:VEVENT
END:VCALENDAR
