BEGIN:VCALENDAR
VERSION:2.0
PRODID:-//McTimothy Associates
CALSCALE:GREGORIAN
METHOD:PUBLISH
X-WR-CALNAME:McTimothy Associates
X-ORIGINAL-URL:https://www.mctimothyassociates.com/product/workshop-on-simplification-of-processes-and-procedures-2/
X-WR-CALDESC:Workshop on Simplification of Processes and Procedures
BEGIN:VEVENT
DTSTART;TZID=Europe/Paris:20260326T100000
DTEND;TZID=Europe/Paris:20260328T160000
SUMMARY:Workshop on Simplification of Processes and Procedures
DESCRIPTION:
URL:https://www.mctimothyassociates.com/product/workshop-on-simplification-of-processes-and-procedures-2/
LOCATION:The professional Place, 12B Olumoroti Street Gbagada Phrase 2, Gbagada Lagos
END:VEVENT
END:VCALENDAR
