BEGIN:VCALENDAR
VERSION:2.0
PRODID:-//McTimothy Associates
CALSCALE:GREGORIAN
METHOD:PUBLISH
X-WR-CALNAME:McTimothy Associates
X-ORIGINAL-URL:https://www.mctimothyassociates.com/product/workshop-on-strategy-for-operational-excellence-using-lean-principle-2/
X-WR-CALDESC:Workshop on Strategy for Operational Excellence Using Lean Principle
BEGIN:VEVENT
DTSTART;TZID=Europe/Paris:20260820T100000
DTEND;TZID=Europe/Paris:20260822T160000
SUMMARY:Workshop on Strategy for Operational Excellence Using Lean Principle
DESCRIPTION:
URL:https://www.mctimothyassociates.com/product/workshop-on-strategy-for-operational-excellence-using-lean-principle-2/
LOCATION:The professional Place, 12B Olumoroti Street Gbagada Phrase 2, Gbagada Lagos
END:VEVENT
END:VCALENDAR
