BEGIN:VCALENDAR
VERSION:2.0
PRODID:-//McTimothy Associates
CALSCALE:GREGORIAN
METHOD:PUBLISH
X-WR-CALNAME:McTimothy Associates
X-ORIGINAL-URL:https://www.mctimothyassociates.com/product/international-financial-reporting-standards-ifrs-and-2021-updates-2/
X-WR-CALDESC:International Financial Reporting Standards (IFRS) and 2021 Updates
BEGIN:VEVENT
DTSTART;TZID=Europe/Paris:20250415T100000
DTEND;TZID=Europe/Paris:20250419T160000
SUMMARY:International Financial Reporting Standards (IFRS) and 2021 Updates
DESCRIPTION:
URL:https://www.mctimothyassociates.com/product/international-financial-reporting-standards-ifrs-and-2021-updates-2/
LOCATION:The professional Place, 12B Olumoroti Street Gbagada Phrase 2, Gbagada Lagos
END:VEVENT
END:VCALENDAR
