BEGIN:VCALENDAR
VERSION:2.0
PRODID:-//McTimothy Associates
CALSCALE:GREGORIAN
METHOD:PUBLISH
X-WR-CALNAME:McTimothy Associates
X-ORIGINAL-URL:https://www.mctimothyassociates.com/product/accounting-and-finance-policies-and-procedures-3/
X-WR-CALDESC:Accounting and Finance Policies and Procedures
BEGIN:VEVENT
DTSTART;TZID=Europe/Paris:20240905T100000
DTEND;TZID=Europe/Paris:20240907T160000
SUMMARY:Accounting and Finance Policies and Procedures
DESCRIPTION:
URL:https://www.mctimothyassociates.com/product/accounting-and-finance-policies-and-procedures-3/
LOCATION:The professional Place, 12B Olumoroti Street Gbagada Phrase 2, Gbagada Lagos
END:VEVENT
END:VCALENDAR
