BEGIN:VCALENDAR
VERSION:2.0
PRODID:-//McTimothy Associates
CALSCALE:GREGORIAN
METHOD:PUBLISH
X-WR-CALNAME:McTimothy Associates
X-ORIGINAL-URL:https://www.mctimothyassociates.com/product/innovating-your-business-rethinking-products-and-services-success-strategies-3/
X-WR-CALDESC:Innovating Your Business &#8211; Rethinking Products and Services Success Strategies
BEGIN:VEVENT
DTSTART;TZID=Europe/Paris:20241205T100000
DTEND;TZID=Europe/Paris:20241207T160000
SUMMARY:Innovating Your Business – Rethinking Products and Services Success Strategies
DESCRIPTION:
URL:https://www.mctimothyassociates.com/product/innovating-your-business-rethinking-products-and-services-success-strategies-3/
LOCATION:The professional Place, 12B Olumoroti Street Gbagada Phrase 2, Gbagada Lagos
END:VEVENT
END:VCALENDAR
