BEGIN:VCALENDAR
VERSION:2.0
PRODID:-//McTimothy Associates
CALSCALE:GREGORIAN
METHOD:PUBLISH
X-WR-CALNAME:McTimothy Associates
X-ORIGINAL-URL:https://www.mctimothyassociates.com/product/comprehensive-training-on-microsoft-powerpoint/
X-WR-CALDESC:Comprehensive Training on Microsoft PowerPoint
BEGIN:VEVENT
DTSTART;TZID=Europe/Paris:20250220T100000
DTEND;TZID=Europe/Paris:20250221T160000
SUMMARY:Comprehensive Training on Microsoft PowerPoint
DESCRIPTION:
URL:https://www.mctimothyassociates.com/product/comprehensive-training-on-microsoft-powerpoint/
LOCATION:The professional Place, 12B Olumoroti Street Gbagada Phrase 2, Gbagada Lagos
END:VEVENT
END:VCALENDAR
