BEGIN:VCALENDAR
VERSION:2.0
PRODID:-//McTimothy Associates
CALSCALE:GREGORIAN
METHOD:PUBLISH
X-WR-CALNAME:McTimothy Associates
X-ORIGINAL-URL:https://www.mctimothyassociates.com/product/managing-multiple-priorities-time-task-and-stress-3/
X-WR-CALDESC:Managing Multiple Priorities, Time, Task, and Stress
BEGIN:VEVENT
DTSTART;TZID=Europe/Paris:20241101T100000
DTEND;TZID=Europe/Paris:20241102T160000
SUMMARY:Managing Multiple Priorities, Time, Task, and Stress
DESCRIPTION:
URL:https://www.mctimothyassociates.com/product/managing-multiple-priorities-time-task-and-stress-3/
LOCATION:The professional Place, 12B Olumoroti Street Gbagada Phrase 2, Gbagada Lagos
END:VEVENT
END:VCALENDAR
