BEGIN:VCALENDAR
VERSION:2.0
PRODID:-//McTimothy Associates
CALSCALE:GREGORIAN
METHOD:PUBLISH
X-WR-CALNAME:McTimothy Associates
X-ORIGINAL-URL:https://www.mctimothyassociates.com/product/essential-administrative-functions-and-office-management-best-practice-technologies-4/
X-WR-CALDESC:Essential Administrative Functions and Office Management Best Practice and Technologies
BEGIN:VEVENT
DTSTART;TZID=Europe/Paris:20240313T100000
DTEND;TZID=Europe/Paris:20240314T160000
SUMMARY:Essential Administrative Functions and Office Management Best Practice and Technologies
DESCRIPTION:
URL:https://www.mctimothyassociates.com/product/essential-administrative-functions-and-office-management-best-practice-technologies-4/
LOCATION:The professional Place, 12B Olumoroti Street Gbagada Phrase 2, Gbagada Lagos
END:VEVENT
END:VCALENDAR
