BEGIN:VCALENDAR
VERSION:2.0
PRODID:-//McTimothy Associates
CALSCALE:GREGORIAN
METHOD:PUBLISH
X-WR-CALNAME:McTimothy Associates
X-ORIGINAL-URL:https://www.mctimothyassociates.com/product/effective-crisis-communication-management-skills-6/
X-WR-CALDESC:Effective Crisis Management
BEGIN:VEVENT
DTSTART;TZID=Europe/Paris:20250925T000000
DTEND;TZID=Europe/Paris:20250927T000000
SUMMARY:Effective Crisis Management
DESCRIPTION:
URL:https://www.mctimothyassociates.com/product/effective-crisis-communication-management-skills-6/
LOCATION:The Professional Place 12B, Olumoroti Street, Gbagada Phase2, Gbagada, Lagos
END:VEVENT
END:VCALENDAR
