BEGIN:VCALENDAR
VERSION:2.0
PRODID:-//McTimothy Associates
CALSCALE:GREGORIAN
METHOD:PUBLISH
X-WR-CALNAME:McTimothy Associates
X-ORIGINAL-URL:https://www.mctimothyassociates.com/product/essentials-of-corporate-business-etiquette-and-protocol-management/
X-WR-CALDESC:Essentials of Corporate/Business Etiquette and Protocol Management
BEGIN:VEVENT
DTSTART;TZID=Europe/Paris:20250313T100000
DTEND;TZID=Europe/Paris:20250315T160000
SUMMARY:Essentials of Corporate/Business Etiquette and Protocol Management
DESCRIPTION:
URL:https://www.mctimothyassociates.com/product/essentials-of-corporate-business-etiquette-and-protocol-management/
LOCATION:The professional Place, 12B Olumoroti Street Gbagada Phrase 2, Gbagada Lagos
END:VEVENT
END:VCALENDAR
