BEGIN:VCALENDAR
VERSION:2.0
PRODID:-//McTimothy Associates
CALSCALE:GREGORIAN
METHOD:PUBLISH
X-WR-CALNAME:McTimothy Associates
X-ORIGINAL-URL:https://www.mctimothyassociates.com/product/process-management-mapping-and-improvement-5/
X-WR-CALDESC:Process Management: Mapping and Improvement
BEGIN:VEVENT
DTSTART;TZID=Europe/Paris:20241003T100000
DTEND;TZID=Europe/Paris:20241005T160000
SUMMARY:Process Management: Mapping and Improvement
DESCRIPTION:
URL:https://www.mctimothyassociates.com/product/process-management-mapping-and-improvement-5/
LOCATION:The professional Place, 12B Olumoroti Street Gbagada Phrase 2, Gbagada Lagos
END:VEVENT
END:VCALENDAR
